BEGIN:VCALENDAR
VERSION:2.0
PRODID:-//Birra Mundi Social Pub - Birreria artigianale - ECPv6.15.20//NONSGML v1.0//EN
CALSCALE:GREGORIAN
METHOD:PUBLISH
X-ORIGINAL-URL:https://www.birramundi.it
X-WR-CALDESC:Eventi per Birra Mundi Social Pub - Birreria artigianale
REFRESH-INTERVAL;VALUE=DURATION:PT1H
X-Robots-Tag:noindex
X-PUBLISHED-TTL:PT1H
BEGIN:VTIMEZONE
TZID:UTC
BEGIN:STANDARD
TZOFFSETFROM:+0000
TZOFFSETTO:+0000
TZNAME:UTC
DTSTART:20230101T000000
END:STANDARD
END:VTIMEZONE
BEGIN:VEVENT
DTSTART;TZID=UTC:20241001T180000
DTEND;TZID=UTC:20241006T220000
DTSTAMP:20260421T131141
CREATED:20240930T204525Z
LAST-MODIFIED:20240930T204525Z
UID:4680-1727805600-1728252000@www.birramundi.it
SUMMARY:Terzo compleanno social pub
DESCRIPTION:Dal primo al sei ottobre festeggiamo la trasformazione in birreria\, o come ci piace dire\, festeggiamo il compleanno della spillatrice\, dato che Birra Mundi in realtà ha aperto nel 2017\, ma tra il primo giugno (apertura del beershop) al primo ottobre (apertura della birreria) ci piace fare festa per tutta l’estate e un po’ oltre. \nQuindi saranno 6 giorni di eventi\, birre\, sconti\, regali. \nMartedì 1: birra media a 4€\nMercoledì 2 e giovedì 3: con ogni birra media in regalo un biglietto della lotteria “DisabiliInCorsa”\nVenerdì 4: arriva il nuovo menù\nSabato 5: promozione beershop 5+1= 5 le paghi e 1 è in regalo\nDomenica 6: orario continuato dalle 10 allle 22 \nDa venerdì a domenica bier garten esterno (meteo permettendo). \n 
URL:https://www.birramundi.it/event/terzo-compleanno-social-pub/
LOCATION:Birra Mundi\, via Giacomo Rubini 15\, Romano Di Lombardia\, 24058\, Italia
CATEGORIES:compleanno
ATTACH;FMTTYPE=image/png:https://www.birramundi.it/wp-content/uploads/2024/09/copertina-fb-compleanno2024.png
END:VEVENT
END:VCALENDAR