BEGIN:VCALENDAR
VERSION:2.0
PRODID:-//Birra Mundi Social Pub - Birreria artigianale - ECPv6.15.20//NONSGML v1.0//EN
CALSCALE:GREGORIAN
METHOD:PUBLISH
X-ORIGINAL-URL:https://www.birramundi.it
X-WR-CALDESC:Eventi per Birra Mundi Social Pub - Birreria artigianale
REFRESH-INTERVAL;VALUE=DURATION:PT1H
X-Robots-Tag:noindex
X-PUBLISHED-TTL:PT1H
BEGIN:VTIMEZONE
TZID:UTC
BEGIN:STANDARD
TZOFFSETFROM:+0000
TZOFFSETTO:+0000
TZNAME:UTC
DTSTART:20170101T000000
END:STANDARD
END:VTIMEZONE
BEGIN:VTIMEZONE
TZID:Europe/Paris
BEGIN:DAYLIGHT
TZOFFSETFROM:+0100
TZOFFSETTO:+0200
TZNAME:CEST
DTSTART:20200329T010000
END:DAYLIGHT
BEGIN:STANDARD
TZOFFSETFROM:+0200
TZOFFSETTO:+0100
TZNAME:CET
DTSTART:20201025T010000
END:STANDARD
BEGIN:DAYLIGHT
TZOFFSETFROM:+0100
TZOFFSETTO:+0200
TZNAME:CEST
DTSTART:20210328T010000
END:DAYLIGHT
BEGIN:STANDARD
TZOFFSETFROM:+0200
TZOFFSETTO:+0100
TZNAME:CET
DTSTART:20211031T010000
END:STANDARD
BEGIN:DAYLIGHT
TZOFFSETFROM:+0100
TZOFFSETTO:+0200
TZNAME:CEST
DTSTART:20220327T010000
END:DAYLIGHT
BEGIN:STANDARD
TZOFFSETFROM:+0200
TZOFFSETTO:+0100
TZNAME:CET
DTSTART:20221030T010000
END:STANDARD
BEGIN:DAYLIGHT
TZOFFSETFROM:+0100
TZOFFSETTO:+0200
TZNAME:CEST
DTSTART:20230326T010000
END:DAYLIGHT
BEGIN:STANDARD
TZOFFSETFROM:+0200
TZOFFSETTO:+0100
TZNAME:CET
DTSTART:20231029T010000
END:STANDARD
END:VTIMEZONE
BEGIN:VEVENT
DTSTART;TZID=UTC:20241011T210000
DTEND;TZID=UTC:20250110T230000
DTSTAMP:20260421T101920
CREATED:20241011T172427Z
LAST-MODIFIED:20241011T172427Z
UID:4691-1728680400-1736550000@www.birramundi.it
SUMMARY:Piacere Birraio
DESCRIPTION:Riparte “Piacere\, birraio”. Ogni mese incontreremo un birraio e berremo insieme le sue birre\, per scoprire il percorso che lo ha portato lì\, la sua dedizione\, la sua sperimentazione\, le delusioni ma soprattutto gli aneddoti che non ha mai raccontato.\nCome sempre ci saranno 3 birre da bere insieme ascoltando i racconti di chi questo sogno lo ha pensato e lo sta realizzando.Le birre saranno accompagnate da piccoli snack e un abbinamento culinario finale.18€ a persona. Prenotazione al pub o via social/mail/cell entro il giovedì prima.\nI birrifici che verranno a raccontarsi\, già confermati di questa edizione sono:– 11/10 La Buttiga (PC)– 08/11 FeelBeer (MI)– 06/12 Birra Lab 25 (CR)In attesa della conferma per la data di gennaio 2025 (!!!) abbiamo pensato ad una data extra: 13 dicembre degustazione alla cieca.Dopo aver bevuto un po’ di birre scoprendone gli aneddoti e gli ingredienti perché non provare a mettersi in gioco cercando di indovinare cosa stai bevendo senza informazioni se non quelle del tuo occhio\, della tua bocca e del tuo naso?\nTi aspettiamo per scoprire della birra anche la storia di chi l’ha creata ha da raccontare.PS: prima prenoti prima ti assicuri di avere un posto (max 16 posti per serata)
URL:https://www.birramundi.it/event/piacere-birraio-4/
LOCATION:Birra Mundi\, via Giacomo Rubini 15\, Romano Di Lombardia\, 24058\, Italia
CATEGORIES:degustazione
ATTACH;FMTTYPE=image/png:https://www.birramundi.it/wp-content/uploads/2024/10/piacerebirraio5-evento-fb.png
END:VEVENT
BEGIN:VEVENT
DTSTART;TZID=UTC:20240621T180000
DTEND;TZID=UTC:20240623T233000
DTSTAMP:20260421T101920
CREATED:20240615T083241Z
LAST-MODIFIED:20240619T182400Z
UID:4637-1718992800-1719185400@www.birramundi.it
SUMMARY:Birre sotto la luna 2024
DESCRIPTION:Torna “Birre sotto la luna” il nostro evento estivo con la luna piena 🌕.\nTre giorni di festa 🎉 e incredibili birre ma anche buon cibo. Dal 21 al 23 giugno.\n2️⃣1️⃣ Venerdì si parte bevendo la nuova birra di Lambrate: la trinity magut 🧱\, una west coast pils rivisitata per i 10 anni della American Magut.\n2️⃣2️⃣ Sabato si festeggia il compleanno del birraius. Ebbene sì\, invecchiano anche i birrai. Per l’occasione in collaborazione con Edo’s BBQ ci sarà un piatto speciale con le sue costine 🐷.\n2️⃣3️⃣ Domenica è la giornata nazionale della birra artigianale quindi tutte le birre medie a 4€ 😍🍺 e il solito buffet della domenica ancora più ricco.\nOvviamente per tutti i 3 giorni bier garten esterno 🌿 per bere sotto la luna 🌝🌠.\nPS: se prenoti il piatto del sabato ENTRO giovedì 20 avrai una birra piccola bionda in omaggio. Il piatto è composto da: 4 costine\, 1 salamella\, rosti di patate\, peperone grigliato e pane; a 20€.
URL:https://www.birramundi.it/event/birre-sotto-la-luna-2024/
LOCATION:Birra Mundi\, via Giacomo Rubini 15\, Romano Di Lombardia\, 24058\, Italia
CATEGORIES:festival
ATTACH;FMTTYPE=image/png:https://www.birramundi.it/wp-content/uploads/2024/06/evento2024-1.png
END:VEVENT
BEGIN:VEVENT
DTSTART;TZID=UTC:20240315T180000
DTEND;TZID=UTC:20240317T230000
DTSTAMP:20260421T101920
CREATED:20240312T151919Z
LAST-MODIFIED:20240312T151919Z
UID:4559-1710525600-1710716400@www.birramundi.it
SUMMARY:San Patrizio e Italy Beer Week
DESCRIPTION:Preparati per UN INCREDIBILE WEEK END DI BIRRA.\nDa Birra Mundi il 15-16-17 marzo festeggiamo la birra con un doppio appuntamento.\nVenerdì 15 si comincia con la festa della birra artigianale italiana. In occasione della Italy Beer Week dalle 18 troverai:\n– 6 birre alla spina\n– fustino a caduta di RUTTI MOSTRUOSI del birrificio Bellazzi di Bologna.\n– promo box da 6 birre italiane a sorpresa\, contenente alcune birre che non abbiamo mai trattato ma preso appositamente per l’evento.\n– speciale piatto aperitivo con salame alla birra\, formaggio alla birra e gelatina alla birra.\nSi prosegue sabato 16 e domenica 17 con i festeggiamenti di San Patrizio\, patrono dell’Irlanda.\nQuindi tantissima birra scura e birra verde!\n– avremo alla spina la Ghisa di Lambrate (smoked stout) e la Napapiiri di Lariano (imperial stout).\n– in lattina la Serpent di White Hag\, una green pale ale direttamente dall’Irlanda.\n– in bottiglia Black out di Rurale (irish stout)\, la Bulk di Hammer (Porter) e la Brown Porter di Canediguerra.\n– e non dimenticate l’irish coffee con whisky irlandese passato in botti di IPA.\n– inoltre domenica il nostro abituale buffet sarà in tema Irish.\nSarà un incredibile week end di birra o no?\nOvviamente musica da irish pub per tutto il weekend
URL:https://www.birramundi.it/event/san-patrizio-e-italy-beer-week/
LOCATION:Birra Mundi\, via Giacomo Rubini 15\, Romano Di Lombardia\, 24058\, Italia
ATTACH;FMTTYPE=image/jpeg:https://www.birramundi.it/wp-content/uploads/2024/03/15-16-17marzo.jpg
END:VEVENT
BEGIN:VEVENT
DTSTART;TZID=UTC:20230915T180000
DTEND;TZID=UTC:20230916T233000
DTSTAMP:20260421T101920
CREATED:20230909T115803Z
LAST-MODIFIED:20230909T123356Z
UID:4282-1694800800-1694907000@www.birramundi.it
SUMMARY:Boccale 8
DESCRIPTION:Ottava edizione di BoccAle\, la piccola rassegna di birrifici artigianali a Romano di Lombardia.\nInserita nel più grande evento cittadino Romano Medievale\, anche quest’anno porteremo tanta birra per le vie del centro.\n5 postazioni di birra artigianale affiancati buon cibo\, in classico stile street food.\nQuest’anno si raddoppia con due serate: venerdì 15 e sabato 16. Dalle 18 circa troverai i birrifici artigianali e le loro birre.\nQuesta edizione sarà nel segno di Bergamo e Brescia Capitali della cultura. Ma non vogliamo anticiparti troppo. 🙂\nE poi un’altra sorpresa. Abbiamo preparato una box con le birre dei birrifici partecipanti. La troverai al nostro stand da venerdì sera. Quantità limitate quindi se vuoi prenotala subito per non fartela scappare. \nAggiornamento dei birrifici partecipanti da lunedì 11 sui social di Birra Mundi www.fb.com/birramundi e www.instragram.com/birramundi\nNoi ci saremo e tu?
URL:https://www.birramundi.it/event/boccale-8/
LOCATION:Romano di Lombardia\, Piazza Roma\, Romano di Lombardia\, Italia
CATEGORIES:festival
ATTACH;FMTTYPE=image/png:https://www.birramundi.it/wp-content/uploads/2023/09/boccale8-evento-fb.png
END:VEVENT
BEGIN:VEVENT
DTSTART;TZID=UTC:20230317T180000
DTEND;TZID=UTC:20230318T230000
DTSTAMP:20260421T101920
CREATED:20230311T152448Z
LAST-MODIFIED:20230314T195247Z
UID:4073-1679076000-1679180400@www.birramundi.it
SUMMARY:San Patrizio 2023
DESCRIPTION:Nel weekend dal 17 al 19 marzo festeggeremo San Patrizio con birre irlandesi\, per stile o nazionalità.\nMa sopratutto abbiamo preparato una cenamundi specialissima per venerdì 17 e sabato 18.\nIl menù prevede:\n– mini sandwich irlandese\n– berghem coddle (con salsiccia marinata alla birra preparata da Edo’s BBQ\, patate condite e cipolla stufata)\n– dolce e caffè\n– 3 birre piccole abbinate ai piatti che vi serviremo (verde\, rossa e scura)\nCosto 25€ a persona\, da prenotare entro giovedì 16 marzo (indicando tra 17 o 18) per evitare di non trovare posto.\nTra le birre servite anche una nuova birra di nostra creazione spillata con pompa inglese. Entrerà in produzione regolarmente? Vieni a darci il tuo consiglio.
URL:https://www.birramundi.it/event/san-patrizio-2023/
LOCATION:Birra Mundi\, via Giacomo Rubini 15\, Romano Di Lombardia\, 24058\, Italia
CATEGORIES:cena
ATTACH;FMTTYPE=image/png:https://www.birramundi.it/wp-content/uploads/2023/03/sanpatrizio2-2023-1.png
END:VEVENT
BEGIN:VEVENT
DTSTART;TZID=UTC:20221120T173000
DTEND;TZID=UTC:20221120T190000
DTSTAMP:20260421T101920
CREATED:20221112T115305Z
LAST-MODIFIED:20221112T115305Z
UID:3872-1668965400-1668970800@www.birramundi.it
SUMMARY:L'importanza del legno
DESCRIPTION:Birra Mundi e Scalici chitarre artigianali (http://www.scalicichitarre.it/) organizzano una degustazione – workshop in cui le birre e le chitarre avranno un punto d’incontro speciale: il legno. Il legno delle botti che hanno visto riposare le birre e il legno selezionato per costruire le chitarre.\nOgni legno può dare sapori e suoni diversi per questo la nostra degustazione sarà incentrata sull’importanza del legno e quanto può apportare in una birra barricata o in una determinata chitarra.\nUn evento originale e trasversale che unirà due mondi artigianali fatti di ricerca\, passione ed emozioni.\nDurante l’evento verranno degustate 3 birre.\nCosto 15 euro a persona.\nInizio ore 17:30.\nPrenotazione obbligatoria (via mail\, cell o al pub).
URL:https://www.birramundi.it/event/limportanza-del-legno-2/
LOCATION:Birra Mundi\, via Giacomo Rubini 15\, Romano Di Lombardia\, 24058\, Italia
CATEGORIES:degustazione
ATTACH;FMTTYPE=image/png:https://www.birramundi.it/wp-content/uploads/2022/11/birra-chitarre-evento-fb.png
END:VEVENT
BEGIN:VEVENT
DTSTART;TZID=UTC:20220923T170000
DTEND;TZID=UTC:20220925T233000
DTSTAMP:20260421T101920
CREATED:20220829T133723Z
LAST-MODIFIED:20220921T143613Z
UID:3765-1663952400-1664148600@www.birramundi.it
SUMMARY:Oktoberfest
DESCRIPTION:Da venerdì 23 a domenica 25 settembre Birra Mundi si trasformerà in un piccolo angolo di Monaco con birre\, cibo e musica tipici dell’oktoberfest. \nUn menù speciale preparato apposta per questi giorni vi aspetta al pub. \n \nVieni a festeggiare e bere con noi. \n 
URL:https://www.birramundi.it/event/oktoberfest/
LOCATION:Birra Mundi\, via Giacomo Rubini 15\, Romano Di Lombardia\, 24058\, Italia
ATTACH;FMTTYPE=image/png:https://www.birramundi.it/wp-content/uploads/2022/08/evento-fb.png
END:VEVENT
BEGIN:VEVENT
DTSTART;TZID=UTC:20220909T210000
DTEND;TZID=UTC:20221202T233000
DTSTAMP:20260421T101920
CREATED:20220822T132923Z
LAST-MODIFIED:20221006T142227Z
UID:3721-1662757200-1670023800@www.birramundi.it
SUMMARY:Piacere Birraio 2
DESCRIPTION:Quattro nuove serate\, per la seconda edizione di “Piacere\, birraio” in cui incontreremo i birrai\, l’anima e la mente di tante birre che proponiamo nel nostro locale.\nUn’occasione per degustare insieme le birre che producono e degustarle proprio come loro le hanno pensate.\nOgni primo venerdì del mese (a eccezione del 9 settembre) da Birra Mundi trovate un birraio e le sue birre.\nSarà una bella occasione per gli appassionati ma anche per gli homebrewer per fare qualche domanda e scoprire magari un segreto da chi ha iniziato da zero fino a realizzare il suo sogno di aprire un birrificio.\nNon è tutto fantastico?\nAnnunceremo i birrai sui social una settimana prima della serata per creare un po’ di suspense.\n9 settembre: Matteo Bonardi di Nama Brewing (Treviglio – BG)\n14 ottobre: Endorama di Simone Casiraghi (Grassobbio – BG)\n4 novembre: ??\n2 dicembre: ?? \nOgni serata prevede la degustazione di 3 birre più snack e piatto a sorpresa in abbinamento. Inizio ore 21. Consigliata prenotazione via mail\, al 3770259013 whatsapp o al pub.
URL:https://www.birramundi.it/event/piacere-birraio-2/
LOCATION:Birra Mundi\, via Giacomo Rubini 15\, Romano Di Lombardia\, 24058\, Italia
CATEGORIES:festival
ATTACH;FMTTYPE=image/jpeg:https://www.birramundi.it/wp-content/uploads/2022/08/piacere-birraio-2-1000-1.jpg
END:VEVENT
BEGIN:VEVENT
DTSTART;TZID=Europe/Paris:20220119T203000
DTEND;TZID=Europe/Paris:20220202T233000
DTSTAMP:20260421T101920
CREATED:20211228T131227Z
LAST-MODIFIED:20211228T154852Z
UID:3412-1642624200-1643844600@www.birramundi.it
SUMMARY:Fare e degustare la birra 10
DESCRIPTION:Ti piace la birra\, sei curioso di saperne di più? Quanti stili e varianti ci sono? Ascolterai la sua storia fino anche a vedere come si può fare facilmente in casa.\nBirra Mundi Social Pub organizza un nuovo ciclo di serate per tutti gli amanti della birra che si stanno appassionando e stanno pensando di farsi la birra in casa.\nPerché fare la birra in casa è divertente\, non costa molto ed è qualitativamente meglio della “dammi una bionda” a caso.\nL’importante è partire con le informazioni giuste per produrre la prima birra già buona. Evitare piccoli errori e ottimizzare le fasi di preparazione.\nPer arricchire il corso abbiamo pensato un piccolo percorso storico sulla birra con una degustazione di due birre ogni sera\, spiegandone lo stile e le differenze.\nUn corso semplice\, di avvicinamento\, aperto a tutti in cui si conoscerà meglio la birra e i suoi ingredienti\, la sua evoluzione nel tempo e quello che è oggi il movimento birrario italiano.\nCosto 60 euro per le 3 serate.\nPrenotazione e green pass obbligatori.\nDate:\n– Mercoledì 19 gennaio\n– Mercoledì 26 gennaio\n– Mercoledì 2 febbraio\nDurante le serate verrà fatta una birra insieme partendo da un kit preparato per vedere il processo base di produzione e imbottigliamento. Alcune bottiglie della birra fatta insieme sono incluse nel costo e si potranno ritirare quando pronte (circa 3 settimane).\nInizio serate: 20:45. Presso Birra Mundi Social Pub\, via Giacomo Rubini 15\, Romano di Lombardia (BG)\nPer info e prenotazioni: FB\, info@birramundi.it o venire in birreria.\nAggiornamenti su: https://www.facebook.com/events/238973331568913
URL:https://www.birramundi.it/event/fare-e-degustare-la-birra-10/
LOCATION:Birra Mundi\, via Giacomo Rubini 15\, Romano Di Lombardia\, 24058\, Italia
ATTACH;FMTTYPE=image/png:https://www.birramundi.it/wp-content/uploads/2021/12/corso-birra-fb-10.png
END:VEVENT
BEGIN:VEVENT
DTSTART;TZID=Europe/Paris:20211231T110000
DTEND;TZID=Europe/Paris:20220101T110000
DTSTAMP:20260421T101920
CREATED:20211228T131632Z
LAST-MODIFIED:20211228T131840Z
UID:3415-1640948400-1641034800@www.birramundi.it
SUMMARY:CapodannoMundi
DESCRIPTION:Vuoi entrare nel 2022 prima degli altri? Da Birra Mundi il 31 iniziamo a festaggiare il capodanno dalle 11 di mattina con Samoa! Ogni ora faremo un brindisi festeggiando tutti i capodanni che precedono il nostro. Un percorso lungo 40 mila km birra dopo birra
URL:https://www.birramundi.it/event/capodannomundi/
LOCATION:Birra Mundi\, via Giacomo Rubini 15\, Romano Di Lombardia\, 24058\, Italia
ATTACH;FMTTYPE=image/png:https://www.birramundi.it/wp-content/uploads/2021/12/capodanno-eventofb-2021.png
END:VEVENT
BEGIN:VEVENT
DTSTART;TZID=UTC:20210730T183000
DTEND;TZID=UTC:20210801T233000
DTSTAMP:20260421T101920
CREATED:20210720T081115Z
LAST-MODIFIED:20210725T161214Z
UID:3238-1627669800-1627860600@www.birramundi.it
SUMMARY:Birre sotto la luna (bis)
DESCRIPTION:Dal 30 luglio al 1 agosto Birra Mundi propone nuovamente l’evento all’aperto Birre sotto la luna: con selezione di birre artigianali per il vostro aperitivo o dopo cena – alla spina e in bottiglia.\nCi troverete a Romano in via Duca d’Aosta 45a (entrando superate il parcheggio della pizzeria Il Gallo). Tutto rigorosamente all’aperto ma a pochi passi da casa.\nBirra Mundi penserà alle birre mentre per le stuzzicherie ci appoggeremo a “Il Gallo”.\nIl mini programma di questo weekend:\n Venerdì ore 19: degustazione guidata “Birra e Pizza”.\nVi daremo due birre e due porzioni di pizza abbinandole e spiegandone le caratteristiche e le compatibilità\n(possibilità di organizzare la degustazione in altro orario a gruppi di 4 persone).\nPrenotazione obbligatoria in negozio o cell. Costo 12€.\n Sabato in collaborazione con Gravel sul serio per gli amanti della gravel: giro intorno al Serio di 50km con arrivo per cena presso di noi (partenza ore 17 circa). Posti limitati. Traccia dopo iscrizione.\nPer entrambi gli eventi aggiornamenti  su https://www.facebook.com/events/2837783293178598\n\nPerché restare chiusi in casa quando si può stare fuori all’aria aperta a bere ottima birra? Oppure passare per prendersi una birra da passeggio e proseguire con la camminata?\nTutto molto easy e self service.\nBirre sotto la Luna è la soluzione \n\nRingraziamo per l’evento e la collaborazione: la Cooperativa di consumo del popolo\, la pizzeria Il Gallo e Gravel sul Serio.
URL:https://www.birramundi.it/event/birre-sotto-la-luna-bis/
LOCATION:via Duca d’Aosta 45a\, Romano di Lombardia\, via Duca d'Aosta 45a\, Romano di Lombardia\, 24058\, Italia
ATTACH;FMTTYPE=image/png:https://www.birramundi.it/wp-content/uploads/2021/07/birresottolaluna_evento_fb.png
END:VEVENT
BEGIN:VEVENT
DTSTART;TZID=UTC:20210702T183000
DTEND;TZID=UTC:20210704T233000
DTSTAMP:20260421T101920
CREATED:20210630T174659Z
LAST-MODIFIED:20210630T174659Z
UID:3180-1625250600-1625441400@www.birramundi.it
SUMMARY:Birre sotto la luna
DESCRIPTION:Dal 2 al 4 luglio Birra Mundi propone un evento all’aperto: Birre sotto la luna\, con selezione di birre artigianali per il vostro aperitivo o dopo cena – alla spina e in bottiglia.\nCi troverete a Romano in via Duca d’Aosta 45a (entrando superate il parcheggio della pizzeria Il Gallo). Tutto rigorosamente all’aperto ma a pochi passi da casa.\nBirra Mundi penserà alle birre mentre per le stuzzicherie ci appoggeremo a “Il Gallo”.\nPerché restare chiusi in casa quando si può stare fuori all’aria aperta a bere ottima birra? Oppure passare per prendersi una birra da passeggio e proseguire con la camminata?\nTutto molto easy e self service.\nInoltre:\n– venerdì 2 ci sarà la finale del torneo di bocce presso la bocciofila di Romano;\n– domenica 3 saremo a supporto dell’evento Plogging organizzato dal Rugby Romano ADS https://www.facebook.com/events/1316272485455170\nRingraziamo per l’evento e la collaborazione: la Cooperativa di consumo del popolo\, il Gallo\, la bocciofila romanese\, il Rugby Romano ADS.
URL:https://www.birramundi.it/event/birre-sotto-la-luna/
LOCATION:via Duca d’Aosta 45a\, Romano di Lombardia\, via Duca d'Aosta 45a\, Romano di Lombardia\, 24058\, Italia
ATTACH;FMTTYPE=image/png:https://www.birramundi.it/wp-content/uploads/2021/06/birresottolaluna_evento_fb.png
END:VEVENT
BEGIN:VEVENT
DTSTART;TZID=UTC:20180922T170000
DTEND;TZID=UTC:20180922T233000
DTSTAMP:20260421T101920
CREATED:20180916T220732Z
LAST-MODIFIED:20180916T220732Z
UID:2047-1537635600-1537659000@www.birramundi.it
SUMMARY:BoccAle 3
DESCRIPTION:Per il terzo anno consecutivo torna BoccALE\, la piccola rassegna di birrifici artigianali inserita all’interno della manifestazione Romano Medievale organizzata dal comune di Romano di Lombardia (BG).\nL’evento\, a cura di Birra Mundi – la bottega della birra di Romano – ogni anno seleziona birrifici artigianali della scena brassicola lombarda e\, per la terza edizione\, propone giovani birrai della bassa bergamasca. \nI birrifici presenti quest’anno sono: Birra Mundi con le sue birre e alcune specialità\, Birrificio Bosco Grosso (Casirate d’Adda)\, Double Bear (Stezzano)\, MiaMal (Verdello) e la neo-nata Brasserie della Palude (Treviglio). \nBoccALE 3 si svolgerà per le vie del centro storico sabato 22 settembre mentre esibizioni\, spettacoli teatrali\, sbandieratori\, danze\, hobbisti e street food allieteranno le vostre passeggiate medievali. La manifestazione andrà avanti fino a tarda serata tra balli\, musica medievale e allegria. \nAppuntamento quindi a Romano di Lombardia sabato 22: dalle 17 si apriranno i rubinetti della birra\, il programma completo della manifestazione al link http://www.comune.romano.bg.it/index.php/eventi/1044-romano-medievale-4
URL:https://www.birramundi.it/event/boccale-3/
LOCATION:Romano di Lombardia\, Piazza Roma\, Romano di Lombardia\, Italia
ATTACH;FMTTYPE=image/jpeg:https://www.birramundi.it/wp-content/uploads/2018/09/boccale3-2018-scaled.jpg
END:VEVENT
END:VCALENDAR