BEGIN:VCALENDAR
VERSION:2.0
PRODID:-//Birra Mundi Social Pub - Birreria artigianale - ECPv6.15.20//NONSGML v1.0//EN
CALSCALE:GREGORIAN
METHOD:PUBLISH
X-ORIGINAL-URL:https://www.birramundi.it
X-WR-CALDESC:Eventi per Birra Mundi Social Pub - Birreria artigianale
REFRESH-INTERVAL;VALUE=DURATION:PT1H
X-Robots-Tag:noindex
X-PUBLISHED-TTL:PT1H
BEGIN:VTIMEZONE
TZID:UTC
BEGIN:STANDARD
TZOFFSETFROM:+0000
TZOFFSETTO:+0000
TZNAME:UTC
DTSTART:20170101T000000
END:STANDARD
END:VTIMEZONE
BEGIN:VEVENT
DTSTART;TZID=UTC:20230420T080000
DTEND;TZID=UTC:20230420T170000
DTSTAMP:20260423T095353
CREATED:20230420T100030Z
LAST-MODIFIED:20230420T100030Z
UID:4103-1681977600-1682010000@www.birramundi.it
SUMMARY:Fraschetta Mundi
DESCRIPTION:Data la lunga fase romana del birraio venerdì 21 e sabato 22 aprile festeggiamo anche in via Rubini 15 il natale di Roma con una cena tematica. Spazio a porchetta d’Ariccia\, bufala\, sott’oli\, pizza&mortazza\, etc.\nBirra Mundi Social Pub si trasforma in una fraschetta dei castelli romani.\nPer l’occasione attaccheremo anche un fusto di IGA\, birra con mosto di vino.\n20€ a persona\, bevande escluse.\nGradita prenotazione\n \n 
URL:https://www.birramundi.it/event/fraschetta-mundi/
LOCATION:Birra Mundi\, via Giacomo Rubini 15\, Romano Di Lombardia\, 24058\, Italia
CATEGORIES:cena
ATTACH;FMTTYPE=image/jpeg:https://www.birramundi.it/wp-content/uploads/2023/04/fraschettamundi-fb.jpg
END:VEVENT
BEGIN:VEVENT
DTSTART;TZID=UTC:20210702T183000
DTEND;TZID=UTC:20210704T233000
DTSTAMP:20260423T095353
CREATED:20210630T174659Z
LAST-MODIFIED:20210630T174659Z
UID:3180-1625250600-1625441400@www.birramundi.it
SUMMARY:Birre sotto la luna
DESCRIPTION:Dal 2 al 4 luglio Birra Mundi propone un evento all’aperto: Birre sotto la luna\, con selezione di birre artigianali per il vostro aperitivo o dopo cena – alla spina e in bottiglia.\nCi troverete a Romano in via Duca d’Aosta 45a (entrando superate il parcheggio della pizzeria Il Gallo). Tutto rigorosamente all’aperto ma a pochi passi da casa.\nBirra Mundi penserà alle birre mentre per le stuzzicherie ci appoggeremo a “Il Gallo”.\nPerché restare chiusi in casa quando si può stare fuori all’aria aperta a bere ottima birra? Oppure passare per prendersi una birra da passeggio e proseguire con la camminata?\nTutto molto easy e self service.\nInoltre:\n– venerdì 2 ci sarà la finale del torneo di bocce presso la bocciofila di Romano;\n– domenica 3 saremo a supporto dell’evento Plogging organizzato dal Rugby Romano ADS https://www.facebook.com/events/1316272485455170\nRingraziamo per l’evento e la collaborazione: la Cooperativa di consumo del popolo\, il Gallo\, la bocciofila romanese\, il Rugby Romano ADS.
URL:https://www.birramundi.it/event/birre-sotto-la-luna/
LOCATION:via Duca d’Aosta 45a\, Romano di Lombardia\, via Duca d'Aosta 45a\, Romano di Lombardia\, 24058\, Italia
ATTACH;FMTTYPE=image/png:https://www.birramundi.it/wp-content/uploads/2021/06/birresottolaluna_evento_fb.png
END:VEVENT
BEGIN:VEVENT
DTSTART;TZID=UTC:20210618T183000
DTEND;TZID=UTC:20210619T233000
DTSTAMP:20260423T095353
CREATED:20210609T154646Z
LAST-MODIFIED:20210609T154646Z
UID:3160-1624041000-1624145400@www.birramundi.it
SUMMARY:Festa della musica 2021
DESCRIPTION:Dopo un anno di sosta “forzata” torna nel vivo e dal vivo la Festa della Musica a Romano di Lombardia.\nDue giornate di concerti in piazza Fiume su un unico palco per tante band e tanta musica. Ma sopratutto TANTA BIRRA ARTIGIANALE.\nSaremo presenti infatti venerdì 18 e sabato 19 con il nostro gazebo e 4 vie di birra fantastica.\nOrari: venerdì 18:30 – 23:30\, sabato 16:30 – 23:30.\nCon noi altri stand per mangiare e tavoli per sedersi e gustarsi i concerti.\nQuindi? Tutti a Romano per la Festa della Musica!
URL:https://www.birramundi.it/event/festa-della-musica-2021/
LOCATION:Romano di Lombardia\, Piazza Roma\, Romano di Lombardia\, Italia
ATTACH;FMTTYPE=image/png:https://www.birramundi.it/wp-content/uploads/2021/06/festadellamusica2021.png
END:VEVENT
BEGIN:VEVENT
DTSTART;TZID=UTC:20191108T173000
DTEND;TZID=UTC:20191129T200000
DTSTAMP:20260423T095353
CREATED:20191107T163914Z
LAST-MODIFIED:20191107T163914Z
UID:2262-1573234200-1575057600@www.birramundi.it
SUMMARY:Beer Friday
DESCRIPTION:Da Birra Mundi ogni venerdì di novembre* è Beer Friday. 4 venerdì di promozione sulle confezioni da 4 birre fino al grande BLACK FRIDAY. Più qualche altra sorpresa extra.\n* 8 – 15 – 22 – 29 novembre.
URL:https://www.birramundi.it/event/beer-friday/
LOCATION:Birra Mundi\, via Giacomo Rubini 15\, Romano Di Lombardia\, 24058\, Italia
ATTACH;FMTTYPE=image/png:https://www.birramundi.it/wp-content/uploads/2019/11/beerfriday-promo.png
END:VEVENT
BEGIN:VEVENT
DTSTART;TZID=UTC:20180922T170000
DTEND;TZID=UTC:20180922T233000
DTSTAMP:20260423T095353
CREATED:20180916T220732Z
LAST-MODIFIED:20180916T220732Z
UID:2047-1537635600-1537659000@www.birramundi.it
SUMMARY:BoccAle 3
DESCRIPTION:Per il terzo anno consecutivo torna BoccALE\, la piccola rassegna di birrifici artigianali inserita all’interno della manifestazione Romano Medievale organizzata dal comune di Romano di Lombardia (BG).\nL’evento\, a cura di Birra Mundi – la bottega della birra di Romano – ogni anno seleziona birrifici artigianali della scena brassicola lombarda e\, per la terza edizione\, propone giovani birrai della bassa bergamasca. \nI birrifici presenti quest’anno sono: Birra Mundi con le sue birre e alcune specialità\, Birrificio Bosco Grosso (Casirate d’Adda)\, Double Bear (Stezzano)\, MiaMal (Verdello) e la neo-nata Brasserie della Palude (Treviglio). \nBoccALE 3 si svolgerà per le vie del centro storico sabato 22 settembre mentre esibizioni\, spettacoli teatrali\, sbandieratori\, danze\, hobbisti e street food allieteranno le vostre passeggiate medievali. La manifestazione andrà avanti fino a tarda serata tra balli\, musica medievale e allegria. \nAppuntamento quindi a Romano di Lombardia sabato 22: dalle 17 si apriranno i rubinetti della birra\, il programma completo della manifestazione al link http://www.comune.romano.bg.it/index.php/eventi/1044-romano-medievale-4
URL:https://www.birramundi.it/event/boccale-3/
LOCATION:Romano di Lombardia\, Piazza Roma\, Romano di Lombardia\, Italia
ATTACH;FMTTYPE=image/jpeg:https://www.birramundi.it/wp-content/uploads/2018/09/boccale3-2018-scaled.jpg
END:VEVENT
BEGIN:VEVENT
DTSTART;TZID=UTC:20180617T150000
DTEND;TZID=UTC:20180617T233000
DTSTAMP:20260423T095353
CREATED:20180607T202210Z
LAST-MODIFIED:20180607T202210Z
UID:2009-1529247600-1529278200@www.birramundi.it
SUMMARY:Festa della musica 2018
DESCRIPTION:Come ogni anno in tutta europa si celebra la Festa della Musica.\nAnche quest’anno Romano di Lombardia parteciperà all’evento internazionale con concerti per tutto il centro storico.\nBirra Mundi aderisce all’iniziativa e vi invita a bere ottima birra artigianale presso Piazza Garibaldi col il suo bancone itinerante durante le esibizioni che si terranno sul palco vicino.\nMaggiori info qui: https://www.facebook.com/events/579495315765118/
URL:https://www.birramundi.it/event/festa-della-musica-2018/
LOCATION:Piazza Garibaldi\, Piazza Garibaldi\, Romano di Lombardia\, 24058\, Italia
ATTACH;FMTTYPE=image/jpeg:https://www.birramundi.it/wp-content/uploads/2018/06/festamusica2018.jpg
END:VEVENT
BEGIN:VEVENT
DTSTART;TZID=UTC:20180602T210000
DTEND;TZID=UTC:20180602T233000
DTSTAMP:20260423T095353
CREATED:20180531T114044Z
LAST-MODIFIED:20180531T114044Z
UID:1966-1527973200-1527982200@www.birramundi.it
SUMMARY:Rock in MAGGIO-re / 4a serata
DESCRIPTION:Ultima serata della manifestazione Rock in MAGGIO-re organizzata dal Comune e da Pro.G\nSaremo presenti con birra artigianale e alla spina. Con noi i ragazzi del Bim Bum Bar a preparare ottimi cocktail.
URL:https://www.birramundi.it/event/rock-in-maggio-re-4a-serata/
LOCATION:Piazza Manetta\, piazza Riccardo Manetta\, Romano di Lombardia\, 24058\, Italia
ATTACH;FMTTYPE=image/jpeg:https://www.birramundi.it/wp-content/uploads/2018/05/rockinmaggiore2018.jpg
END:VEVENT
END:VCALENDAR